BEGIN:VCALENDAR
VERSION:2.0
PRODID:SchoolNow
CALSCALE:GREGORIAN
BEGIN:VEVENT
UID:97173a60-3061-11f1-a527-0a58a9feac02
DTSTAMP:20260421T073012Z
SUMMARY:CAASPP Math Test - 1:15 pm Early Out
URL;VALUE=URI:https://www.tusd.org/schools/madrona/calendar/8970738/caaspp-
 math-test-1-15-pm-early-out
DTSTART;VALUE=DATE:20260518
DTEND;VALUE=DATE:20260520
END:VEVENT
END:VCALENDAR
