BEGIN:VCALENDAR
VERSION:2.0
PRODID:SchoolNow
CALSCALE:GREGORIAN
BEGIN:VEVENT
UID:e961745e-2a01-11f1-afe6-0a58a9feac02
DTSTAMP:20260421T073012Z
SUMMARY:Mid Day Mingle
URL;VALUE=URI:https://www.tusd.org/schools/madrona/calendar/8950156/mid-day
 -mingle
DTSTART;VALUE=DATE:20260508
DTEND;VALUE=DATE:20260509
END:VEVENT
END:VCALENDAR
