BEGIN:VCALENDAR
VERSION:2.0
PRODID:SchoolNow
CALSCALE:GREGORIAN
BEGIN:VEVENT
UID:e9615190-2a01-11f1-a148-0a58a9feac02
DTSTAMP:20260421T073012Z
SUMMARY:Q4 Assembly
URL;VALUE=URI:https://www.tusd.org/schools/madrona/calendar/8950155/q4-asse
 mbly
DTSTART;VALUE=DATE:20260515
DTEND;VALUE=DATE:20260516
END:VEVENT
END:VCALENDAR
