BEGIN:VCALENDAR
VERSION:2.0
PRODID:SchoolNow
CALSCALE:GREGORIAN
BEGIN:VEVENT
UID:f4a32c94-2935-11f1-b702-0a58a9feac02
DTSTAMP:20260421T073012Z
SUMMARY:Spirit Week
URL;VALUE=URI:https://www.tusd.org/schools/madrona/calendar/8947278/spirit-
 week
DTSTART;VALUE=DATE:20260323
DTEND;VALUE=DATE:20260328
END:VEVENT
END:VCALENDAR
