BEGIN:VCALENDAR
VERSION:2.0
PRODID:SchoolNow
CALSCALE:GREGORIAN
BEGIN:VEVENT
UID:17e03ab6-266c-11f1-a008-0afff241e7db
DTSTAMP:20260424T083014Z
SUMMARY:Late Start -9:25
URL;VALUE=URI:https://www.tusd.org/schools/madrona/calendar/8938382/late-st
 art-9-25
DTSTART;VALUE=DATE:20271123
DTEND;VALUE=DATE:20271124
END:VEVENT
END:VCALENDAR
