BEGIN:VCALENDAR
VERSION:2.0
PRODID:SchoolNow
CALSCALE:GREGORIAN
BEGIN:VEVENT
UID:590bfe1c-2171-11f1-9383-0affd3fa7961
DTSTAMP:20260421T073012Z
SUMMARY:Biliteracy Seal Test - Application Due
URL;VALUE=URI:https://www.tusd.org/schools/madrona/calendar/8922929/biliter
 acy-seal-test-application-due
DTSTART;VALUE=DATE:20260413
DTEND;VALUE=DATE:20260414
END:VEVENT
END:VCALENDAR
