BEGIN:VCALENDAR
VERSION:2.0
PRODID:SchoolNow
CALSCALE:GREGORIAN
BEGIN:VEVENT
UID:590bf4a8-2171-11f1-8b42-0affd3fa7961
DTSTAMP:20260421T073012Z
SUMMARY:8th grade Panoramic Picture
URL;VALUE=URI:https://www.tusd.org/schools/madrona/calendar/8922928/8th-gra
 de-panoramic-picture
DTSTART:20260413T192400Z
DTEND:20260413T194900Z
END:VEVENT
END:VCALENDAR
