BEGIN:VCALENDAR
VERSION:2.0
PRODID:SchoolNow
CALSCALE:GREGORIAN
BEGIN:VEVENT
UID:5dbf323c-210b-11f1-ae0c-0eb91063150b
DTSTAMP:20260421T133515Z
SUMMARY:Madrona Summer Enrichment
URL;VALUE=URI:https://www.tusd.org/schools/madrona/calendar/8921636/madrona
 -summer-enrichment
DTSTART;VALUE=DATE:20260810
DTEND;VALUE=DATE:20260814
END:VEVENT
END:VCALENDAR
