BEGIN:VCALENDAR
VERSION:2.0
PRODID:SchoolNow
CALSCALE:GREGORIAN
BEGIN:VEVENT
UID:6099a164-20d8-11f1-8c1c-0a58a9feac02
DTSTAMP:20260424T083014Z
SUMMARY:Late Start -9:25
URL;VALUE=URI:https://www.tusd.org/schools/madrona/calendar/8921002/late-st
 art-9-25
DTSTART;VALUE=DATE:20271116
DTEND;VALUE=DATE:20271117
END:VEVENT
END:VCALENDAR
