BEGIN:VCALENDAR
VERSION:2.0
PRODID:SchoolNow
CALSCALE:GREGORIAN
BEGIN:VEVENT
UID:9789c7a4-1ca9-11f1-803b-0e55a7a6c631
DTSTAMP:20260421T073012Z
SUMMARY:Empowerment Club
URL;VALUE=URI:https://www.tusd.org/schools/madrona/calendar/8907423/empower
 ment-club
DTSTART:20260324T153000Z
DTEND:20260324T161500Z
END:VEVENT
END:VCALENDAR
