BEGIN:VCALENDAR
VERSION:2.0
PRODID:SchoolNow
CALSCALE:GREGORIAN
BEGIN:VEVENT
UID:9e4839d4-1c10-11f1-b831-021c79d5a55f
DTSTAMP:20260422T014512Z
SUMMARY:No School - Spring Break
URL;VALUE=URI:https://www.tusd.org/schools/madrona/calendar/8905252/no-scho
 ol-spring-break
DTSTART;VALUE=DATE:20270329
DTEND;VALUE=DATE:20270403
END:VEVENT
END:VCALENDAR
