BEGIN:VCALENDAR
VERSION:2.0
PRODID:SchoolNow
CALSCALE:GREGORIAN
BEGIN:VEVENT
UID:9e4837fe-1c10-11f1-95b9-021c79d5a55f
DTSTAMP:20260421T133515Z
SUMMARY:No School - Non Instructional Day
URL;VALUE=URI:https://www.tusd.org/schools/madrona/calendar/8905251/no-scho
 ol-non-instructional-day
DTSTART;VALUE=DATE:20261016
DTEND;VALUE=DATE:20261017
END:VEVENT
END:VCALENDAR
