BEGIN:VCALENDAR
VERSION:2.0
PRODID:SchoolNow
CALSCALE:GREGORIAN
BEGIN:VEVENT
UID:9e4834a2-1c10-11f1-9b4f-021c79d5a55f
DTSTAMP:20260421T133515Z
SUMMARY:No School - Non Instructional Day
URL;VALUE=URI:https://www.tusd.org/schools/madrona/calendar/8905250/no-scho
 ol-non-instructional-day
DTSTART;VALUE=DATE:20260921
DTEND;VALUE=DATE:20260922
END:VEVENT
END:VCALENDAR
