BEGIN:VCALENDAR
VERSION:2.0
PRODID:SchoolNow
CALSCALE:GREGORIAN
BEGIN:VEVENT
UID:9e482e94-1c10-11f1-b86d-021c79d5a55f
DTSTAMP:20260422T014512Z
SUMMARY:No School - Non Instructional Day
URL;VALUE=URI:https://www.tusd.org/schools/madrona/calendar/8905249/no-scho
 ol-non-instructional-day
DTSTART;VALUE=DATE:20270319
DTEND;VALUE=DATE:20270320
END:VEVENT
END:VCALENDAR
