BEGIN:VCALENDAR
VERSION:2.0
PRODID:SchoolNow
CALSCALE:GREGORIAN
BEGIN:VEVENT
UID:a1b3648c-1bdd-11f1-9252-0efc31c7a729
DTSTAMP:20260421T194013Z
SUMMARY:No School - Thanksgiving Break
URL;VALUE=URI:https://www.tusd.org/schools/madrona/calendar/8904287/no-scho
 ol-thanksgiving-break
DTSTART;VALUE=DATE:20261123
DTEND;VALUE=DATE:20261128
END:VEVENT
END:VCALENDAR
