BEGIN:VCALENDAR
VERSION:2.0
PRODID:SchoolNow
CALSCALE:GREGORIAN
BEGIN:VEVENT
UID:a1b36360-1bdd-11f1-a444-0efc31c7a729
DTSTAMP:20260421T194013Z
SUMMARY:No School - Veteran's Day
URL;VALUE=URI:https://www.tusd.org/schools/madrona/calendar/8904286/no-scho
 ol-veterans-day
DTSTART;VALUE=DATE:20261111
DTEND;VALUE=DATE:20261112
END:VEVENT
END:VCALENDAR
