BEGIN:VCALENDAR
VERSION:2.0
PRODID:SchoolNow
CALSCALE:GREGORIAN
BEGIN:VEVENT
UID:a1b3627a-1bdd-11f1-9fb0-0efc31c7a729
DTSTAMP:20260422T014512Z
SUMMARY:Student's Last Day Of School
URL;VALUE=URI:https://www.tusd.org/schools/madrona/calendar/8904285/student
 s-last-day-of-school
DTSTART;VALUE=DATE:20270610
DTEND;VALUE=DATE:20270611
END:VEVENT
END:VCALENDAR
