BEGIN:VCALENDAR
VERSION:2.0
PRODID:SchoolNow
CALSCALE:GREGORIAN
BEGIN:VEVENT
UID:a1b360f4-1bdd-11f1-93b3-0efc31c7a729
DTSTAMP:20260421T194013Z
SUMMARY:No School - MLK Day
URL;VALUE=URI:https://www.tusd.org/schools/madrona/calendar/8904284/no-scho
 ol-mlk-day
DTSTART;VALUE=DATE:20270118
DTEND;VALUE=DATE:20270119
END:VEVENT
END:VCALENDAR
