BEGIN:VCALENDAR
VERSION:2.0
PRODID:SchoolNow
CALSCALE:GREGORIAN
BEGIN:VEVENT
UID:a1b35ffa-1bdd-11f1-ba72-0efc31c7a729
DTSTAMP:20260421T194013Z
SUMMARY:End of 1st Sem
URL;VALUE=URI:https://www.tusd.org/schools/madrona/calendar/8904283/end-of-
 1st-sem
DTSTART;VALUE=DATE:20270122
DTEND;VALUE=DATE:20270123
END:VEVENT
END:VCALENDAR
