BEGIN:VCALENDAR
VERSION:2.0
PRODID:SchoolNow
CALSCALE:GREGORIAN
BEGIN:VEVENT
UID:a1b35eb0-1bdd-11f1-adff-0efc31c7a729
DTSTAMP:20260422T014512Z
SUMMARY:No School - Student Free Day
URL;VALUE=URI:https://www.tusd.org/schools/madrona/calendar/8904282/no-scho
 ol-student-free-day
DTSTART;VALUE=DATE:20270305
DTEND;VALUE=DATE:20270306
END:VEVENT
END:VCALENDAR
