BEGIN:VCALENDAR
VERSION:2.0
PRODID:SchoolNow
CALSCALE:GREGORIAN
BEGIN:VEVENT
UID:a1b35d66-1bdd-11f1-a9cc-0efc31c7a729
DTSTAMP:20260421T194013Z
SUMMARY:No School - Lincoln Day
URL;VALUE=URI:https://www.tusd.org/schools/madrona/calendar/8904281/no-scho
 ol-lincoln-day
DTSTART;VALUE=DATE:20270208
DTEND;VALUE=DATE:20270209
END:VEVENT
END:VCALENDAR
