BEGIN:VCALENDAR
VERSION:2.0
PRODID:SchoolNow
CALSCALE:GREGORIAN
BEGIN:VEVENT
UID:a1b35c4e-1bdd-11f1-b344-0efc31c7a729
DTSTAMP:20260421T194013Z
SUMMARY:No School - Winter Break
URL;VALUE=URI:https://www.tusd.org/schools/madrona/calendar/8904280/no-scho
 ol-winter-break
DTSTART;VALUE=DATE:20261221
DTEND;VALUE=DATE:20270102
END:VEVENT
END:VCALENDAR
