BEGIN:VCALENDAR
VERSION:2.0
PRODID:SchoolNow
CALSCALE:GREGORIAN
BEGIN:VEVENT
UID:a1b35b0e-1bdd-11f1-99d2-0efc31c7a729
DTSTAMP:20260421T133515Z
SUMMARY:No School - Labor Day
URL;VALUE=URI:https://www.tusd.org/schools/madrona/calendar/8904279/no-scho
 ol-labor-day
DTSTART;VALUE=DATE:20260907
DTEND;VALUE=DATE:20260908
END:VEVENT
END:VCALENDAR
