BEGIN:VCALENDAR
VERSION:2.0
PRODID:SchoolNow
CALSCALE:GREGORIAN
BEGIN:VEVENT
UID:a1b35960-1bdd-11f1-bfab-0efc31c7a729
DTSTAMP:20260422T014512Z
SUMMARY:End of 2nd Sem
URL;VALUE=URI:https://www.tusd.org/schools/madrona/calendar/8904278/end-of-
 2nd-sem
DTSTART;VALUE=DATE:20270610
DTEND;VALUE=DATE:20270611
END:VEVENT
END:VCALENDAR
