BEGIN:VCALENDAR
VERSION:2.0
PRODID:SchoolNow
CALSCALE:GREGORIAN
BEGIN:VEVENT
UID:a1b357b2-1bdd-11f1-97ea-0efc31c7a729
DTSTAMP:20260422T014512Z
SUMMARY:No School - Memorial Day
URL;VALUE=URI:https://www.tusd.org/schools/madrona/calendar/8904277/no-scho
 ol-memorial-day
DTSTART;VALUE=DATE:20270531
DTEND;VALUE=DATE:20270601
END:VEVENT
END:VCALENDAR
