BEGIN:VCALENDAR
VERSION:2.0
PRODID:SchoolNow
CALSCALE:GREGORIAN
BEGIN:VEVENT
UID:a1b355aa-1bdd-11f1-884a-0efc31c7a729
DTSTAMP:20260421T194013Z
SUMMARY:No School - President's Day
URL;VALUE=URI:https://www.tusd.org/schools/madrona/calendar/8904276/no-scho
 ol-presidents-day
DTSTART;VALUE=DATE:20270215
DTEND;VALUE=DATE:20270216
END:VEVENT
END:VCALENDAR
