BEGIN:VCALENDAR
VERSION:2.0
PRODID:SchoolNow
CALSCALE:GREGORIAN
BEGIN:VEVENT
UID:a1b35460-1bdd-11f1-b5e2-0efc31c7a729
DTSTAMP:20260422T014512Z
SUMMARY:End of Q3
URL;VALUE=URI:https://www.tusd.org/schools/madrona/calendar/8904275/end-of-
 q3
DTSTART;VALUE=DATE:20270326
DTEND;VALUE=DATE:20270327
END:VEVENT
END:VCALENDAR
