BEGIN:VCALENDAR
VERSION:2.0
PRODID:SchoolNow
CALSCALE:GREGORIAN
BEGIN:VEVENT
UID:a1b3532a-1bdd-11f1-b968-0efc31c7a729
DTSTAMP:20260422T014512Z
SUMMARY:8th gr Promotion
URL;VALUE=URI:https://www.tusd.org/schools/madrona/calendar/8904274/8th-gr-
 promotion
DTSTART;VALUE=DATE:20270610
DTEND;VALUE=DATE:20270611
END:VEVENT
END:VCALENDAR
