BEGIN:VCALENDAR
VERSION:2.0
PRODID:SchoolNow
CALSCALE:GREGORIAN
BEGIN:VEVENT
UID:a1b351d6-1bdd-11f1-ae56-0efc31c7a729
DTSTAMP:20260421T133515Z
SUMMARY:No School - Student Free Day
URL;VALUE=URI:https://www.tusd.org/schools/madrona/calendar/8904273/no-scho
 ol-student-free-day
DTSTART;VALUE=DATE:20261002
DTEND;VALUE=DATE:20261003
END:VEVENT
END:VCALENDAR
