BEGIN:VCALENDAR
VERSION:2.0
PRODID:SchoolNow
CALSCALE:GREGORIAN
BEGIN:VEVENT
UID:a1b34e0c-1bdd-11f1-9304-0efc31c7a729
DTSTAMP:20260421T133515Z
SUMMARY:End of Q1
URL;VALUE=URI:https://www.tusd.org/schools/madrona/calendar/8904272/end-of-
 q1
DTSTART;VALUE=DATE:20261023
DTEND;VALUE=DATE:20261024
END:VEVENT
END:VCALENDAR
