BEGIN:VCALENDAR
VERSION:2.0
PRODID:SchoolNow
CALSCALE:GREGORIAN
BEGIN:VEVENT
UID:e5268240-16af-11f1-b0f6-0a58a9feac02
DTSTAMP:20260421T073012Z
SUMMARY:Flag Football - Richardson vs Madrona
LOCATION:Richardson Middle School\, 23751 Nancylee Ln\, Torrance\, CA 90505
 \, USA
URL;VALUE=URI:https://www.tusd.org/schools/madrona/calendar/8885794/flag-fo
 otball-richardson-vs-madrona
DTSTART:20260423T230000Z
DTEND:20260424T010000Z
END:VEVENT
END:VCALENDAR
