BEGIN:VCALENDAR
VERSION:2.0
PRODID:SchoolNow
CALSCALE:GREGORIAN
BEGIN:VEVENT
UID:f094611e-15e3-11f1-884f-0affc5a8ca85
DTSTAMP:20260424T083014Z
SUMMARY:Late Start -9:25
URL;VALUE=URI:https://www.tusd.org/schools/madrona/calendar/8882595/late-st
 art-9-25
DTSTART;VALUE=DATE:20271102
DTEND;VALUE=DATE:20271103
END:VEVENT
END:VCALENDAR
