BEGIN:VCALENDAR
VERSION:2.0
PRODID:SchoolNow
CALSCALE:GREGORIAN
BEGIN:VEVENT
UID:10ddaec4-12b2-11f1-a3e9-0a58a9feac02
DTSTAMP:20260424T083014Z
SUMMARY:Late Start -9:25
URL;VALUE=URI:https://www.tusd.org/schools/madrona/calendar/8871905/late-st
 art-9-25
DTSTART;VALUE=DATE:20271026
DTEND;VALUE=DATE:20271027
END:VEVENT
END:VCALENDAR
