BEGIN:VCALENDAR
VERSION:2.0
PRODID:SchoolNow
CALSCALE:GREGORIAN
BEGIN:VEVENT
UID:1e1ce61e-1081-11f1-b5c0-0a58a9feac02
DTSTAMP:20260421T073012Z
SUMMARY:THS 504 Transition Meeting (w/Lujan/Bloomfield)
URL;VALUE=URI:https://www.tusd.org/schools/madrona/calendar/8866388/ths-504
 -transition-meeting-w-lujan-bloomfield
DTSTART;VALUE=DATE:20260521
DTEND;VALUE=DATE:20260522
END:VEVENT
END:VCALENDAR
