BEGIN:VCALENDAR
VERSION:2.0
PRODID:SchoolNow
CALSCALE:GREGORIAN
BEGIN:VEVENT
UID:8fd0dfb2-07bd-11f1-ae49-0eb93cf5797d
DTSTAMP:20260424T083014Z
SUMMARY:Late Start -9:25
URL;VALUE=URI:https://www.tusd.org/schools/madrona/calendar/8853631/late-st
 art-9-25
DTSTART;VALUE=DATE:20271012
DTEND;VALUE=DATE:20271013
END:VEVENT
END:VCALENDAR
