BEGIN:VCALENDAR
VERSION:2.0
PRODID:SchoolNow
CALSCALE:GREGORIAN
BEGIN:VEVENT
UID:9cad9d4c-06be-11f1-9320-0a58a9feac02
DTSTAMP:20260421T073012Z
SUMMARY:TUSD Math Field Day
URL;VALUE=URI:https://www.tusd.org/schools/madrona/calendar/8852331/tusd-ma
 th-field-day
DTSTART;VALUE=DATE:20260321
DTEND;VALUE=DATE:20260322
END:VEVENT
END:VCALENDAR
