BEGIN:VCALENDAR
VERSION:2.0
PRODID:SchoolNow
CALSCALE:GREGORIAN
BEGIN:VEVENT
UID:a1142b14-0658-11f1-8db4-02569ee60bf5
DTSTAMP:20260421T073012Z
SUMMARY:Rising 7th-8th Grade Schedule Verification Deadline
URL;VALUE=URI:https://www.tusd.org/schools/madrona/calendar/8852042/rising-
 7th-8th-grade-schedule-verification-deadline
DTSTART;VALUE=DATE:20260327
DTEND;VALUE=DATE:20260328
END:VEVENT
END:VCALENDAR
