BEGIN:VCALENDAR
VERSION:2.0
PRODID:SchoolNow
CALSCALE:GREGORIAN
BEGIN:VEVENT
UID:a11428ee-0658-11f1-b3f9-02569ee60bf5
DTSTAMP:20260421T133515Z
SUMMARY:2026-27 Rising 7/8th Madrona Course Requests Open
URL;VALUE=URI:https://www.tusd.org/schools/madrona/calendar/8852041/2026-27
 -rising-7-8th-madrona-course-requests-open
DTSTART;VALUE=DATE:20260223
DTEND;VALUE=DATE:20260224
END:VEVENT
END:VCALENDAR
