BEGIN:VCALENDAR
VERSION:2.0
PRODID:SchoolNow
CALSCALE:GREGORIAN
BEGIN:VEVENT
UID:a11425ba-0658-11f1-8bfd-02569ee60bf5
DTSTAMP:20260421T133515Z
SUMMARY:2026-26 PowerSchool Schedule Viewable
URL;VALUE=URI:https://www.tusd.org/schools/madrona/calendar/8852040/2026-26
 -powerschool-schedule-viewable
DTSTART;VALUE=DATE:20260817
DTEND;VALUE=DATE:20260818
END:VEVENT
END:VCALENDAR
