BEGIN:VCALENDAR
VERSION:2.0
PRODID:SchoolNow
CALSCALE:GREGORIAN
BEGIN:VEVENT
UID:a114207e-0658-11f1-a954-02569ee60bf5
DTSTAMP:20260421T073012Z
SUMMARY:2026-27 Rising 7/8th Madrona Course Requests CLOSES
URL;VALUE=URI:https://www.tusd.org/schools/madrona/calendar/8852039/2026-27
 -rising-7-8th-madrona-course-requests-closes
DTSTART;VALUE=DATE:20260313
DTEND;VALUE=DATE:20260314
END:VEVENT
END:VCALENDAR
