BEGIN:VCALENDAR
VERSION:2.0
PRODID:SchoolNow
CALSCALE:GREGORIAN
BEGIN:VEVENT
UID:a564cd8c-0625-11f1-ab15-0e3924baf6c3
DTSTAMP:20260421T073012Z
SUMMARY:7th-grade (Rising 8th) THS Parent Night
LOCATION:Little Theater/Torrance High School
URL;VALUE=URI:https://www.tusd.org/schools/madrona/calendar/8851982/7th-gra
 de-rising-8th-ths-parent-night
DTSTART:20260415T010000Z
DTEND:20260415T015000Z
END:VEVENT
END:VCALENDAR
