BEGIN:VCALENDAR
VERSION:2.0
PRODID:SchoolNow
CALSCALE:GREGORIAN
BEGIN:VEVENT
UID:2a44648c-fbfd-11f0-b053-0affcf23cafd
DTSTAMP:20260424T083014Z
SUMMARY:Late Start -9:25
URL;VALUE=URI:https://www.tusd.org/schools/madrona/calendar/8845489/late-st
 art-9-25
DTSTART;VALUE=DATE:20270928
DTEND;VALUE=DATE:20270929
END:VEVENT
END:VCALENDAR
