BEGIN:VCALENDAR
VERSION:2.0
PRODID:SchoolNow
CALSCALE:GREGORIAN
BEGIN:VEVENT
UID:71542f54-f669-11f0-ad81-02cf4ff822d3
DTSTAMP:20260421T073012Z
SUMMARY:THS 9th-grade Scheduling Meeting 26-27 School Year
LOCATION:At Madrona
URL;VALUE=URI:https://www.tusd.org/schools/madrona/calendar/8838532/ths-9th
 -grade-scheduling-meeting-26-27-school-year
DTSTART;VALUE=DATE:20260417
DTEND;VALUE=DATE:20260418
END:VEVENT
END:VCALENDAR
