BEGIN:VCALENDAR
VERSION:2.0
PRODID:SchoolNow
CALSCALE:GREGORIAN
BEGIN:VEVENT
UID:71542e64-f669-11f0-a0cc-02cf4ff822d3
DTSTAMP:20260421T073012Z
SUMMARY:CAST Make-ups (regular schedule)
URL;VALUE=URI:https://www.tusd.org/schools/madrona/calendar/8838531/cast-ma
 ke-ups-regular-schedule
DTSTART;VALUE=DATE:20260515
DTEND;VALUE=DATE:20260516
END:VEVENT
END:VCALENDAR
