BEGIN:VCALENDAR
VERSION:2.0
PRODID:SchoolNow
CALSCALE:GREGORIAN
BEGIN:VEVENT
UID:71542bda-f669-11f0-bc91-02cf4ff822d3
DTSTAMP:20260421T073012Z
SUMMARY:8th - THS Counselor Presentation by PE
URL;VALUE=URI:https://www.tusd.org/schools/madrona/calendar/8838530/8th-ths
 -counselor-presentation-by-pe
DTSTART;VALUE=DATE:20260406
DTEND;VALUE=DATE:20260407
END:VEVENT
END:VCALENDAR
