BEGIN:VCALENDAR
VERSION:2.0
PRODID:SchoolNow
CALSCALE:GREGORIAN
BEGIN:VEVENT
UID:71542a2c-f669-11f0-9ffd-02cf4ff822d3
DTSTAMP:20260421T073012Z
SUMMARY:THS Dean / Madrona 8th Grade Permit Students Meeting
LOCATION:Madrona
URL;VALUE=URI:https://www.tusd.org/schools/madrona/calendar/8838529/ths-dea
 n-madrona-8th-grade-permit-students-meeting
DTSTART:20260513T150000Z
DTEND:20260513T153000Z
END:VEVENT
END:VCALENDAR
