BEGIN:VCALENDAR
VERSION:2.0
PRODID:SchoolNow
CALSCALE:GREGORIAN
BEGIN:VEVENT
UID:71542946-f669-11f0-964d-02cf4ff822d3
DTSTAMP:20260421T133515Z
SUMMARY:Last Day to order a Yearbook
URL;VALUE=URI:https://www.tusd.org/schools/madrona/calendar/8838528/last-da
 y-to-order-a-yearbook
DTSTART;VALUE=DATE:20260206
DTEND;VALUE=DATE:20260207
END:VEVENT
END:VCALENDAR
