BEGIN:VCALENDAR
VERSION:2.0
PRODID:SchoolNow
CALSCALE:GREGORIAN
BEGIN:VEVENT
UID:71542856-f669-11f0-9f16-02cf4ff822d3
DTSTAMP:20260421T133515Z
SUMMARY:8th-grade Promotion @THS
URL;VALUE=URI:https://www.tusd.org/schools/madrona/calendar/8838527/8th-gra
 de-promotion-ths
DTSTART:20260611T223000Z
DTEND:20260612T000000Z
END:VEVENT
END:VCALENDAR
