BEGIN:VCALENDAR
VERSION:2.0
PRODID:SchoolNow
CALSCALE:GREGORIAN
BEGIN:VEVENT
UID:715426c6-f669-11f0-b95a-02cf4ff822d3
DTSTAMP:20260421T073012Z
SUMMARY:8th - THS Assembly @THS
LOCATION:At THS (bus transportation)
URL;VALUE=URI:https://www.tusd.org/schools/madrona/calendar/8838526/8th-ths
 -assembly-ths
DTSTART:20260408T161500Z
DTEND:20260408T183000Z
END:VEVENT
END:VCALENDAR
