BEGIN:VCALENDAR
VERSION:2.0
PRODID:SchoolNow
CALSCALE:GREGORIAN
BEGIN:VEVENT
UID:715425e0-f669-11f0-be01-02cf4ff822d3
DTSTAMP:20260421T073012Z
SUMMARY:CAST 8th-grade Only Science Test
URL;VALUE=URI:https://www.tusd.org/schools/madrona/calendar/8838525/cast-8t
 h-grade-only-science-test
DTSTART;VALUE=DATE:20260513
DTEND;VALUE=DATE:20260515
END:VEVENT
END:VCALENDAR
